BEGIN:VCALENDAR
VERSION:2.0
PRODID:-//wp-events-plugin.com//7.2.3.1//EN
TZID:America/New_York
X-WR-TIMEZONE:America/New_York
BEGIN:VEVENT
UID:161@trinitypres.us
DTSTART;TZID=America/New_York:20250731T080000
DTEND;TZID=America/New_York:20250731T180000
DTSTAMP:20250507T124348Z
URL:https://trinitypres.us/resources/events/childrens-spring-fling/
SUMMARY:Youth Hershey Park Trip
DESCRIPTION:Both rising and curent youth (and their families) are welcome t
 o join us for a fun day at the sweetest place on earth!
ATTACH;FMTTYPE=image/jpeg:https://trinitypres.us/wp-content/uploads/2025/0
 4/hershey-park-trip-e1745956581358.jpg
CATEGORIES:Youth Ministry
LOCATION:Hershey Park\, 00 Hersheypark Dr\, Hershey\, PA\, 17033\, United S
 tates
GEO:40.294655;-76.652781
X-APPLE-STRUCTURED-LOCATION;VALUE=URI;X-ADDRESS=00 Hersheypark Dr\, Hershey
 \, PA\, 17033\, United States;X-APPLE-RADIUS=100;X-TITLE=Hershey Park:geo:
 40.294655,-76.652781
END:VEVENT
BEGIN:VTIMEZONE
TZID:America/New_York
X-LIC-LOCATION:America/New_York
BEGIN:DAYLIGHT
DTSTART:20250309T030000
TZOFFSETFROM:-0500
TZOFFSETTO:-0400
TZNAME:EDT
END:DAYLIGHT
END:VTIMEZONE
END:VCALENDAR