BEGIN:VCALENDAR
VERSION:2.0
PRODID:-//wp-events-plugin.com//7.2.3.1//EN
TZID:America/New_York
X-WR-TIMEZONE:America/New_York
BEGIN:VEVENT
UID:499@trinitypres.us
DTSTART;TZID=America/New_York:20251025T093000
DTEND;TZID=America/New_York:20251025T110000
DTSTAMP:20251023T002147Z
URL:https://trinitypres.us/resources/events/bagels-open-house/
SUMMARY:Bagels & Open House
DESCRIPTION:You're warmly invited to drop by the Jamesons’ new home for a
  casual open house. It’s a simple\, friendly way to say hello and welcom
 e them in person.
ATTACH;FMTTYPE=image/jpeg:https://trinitypres.us/wp-content/uploads/2025/1
 0/25-off.jpg
CATEGORIES:General Fellowship
LOCATION:Chris and Alyssa Jameson's\,  \, Millersville\, MD\, 21108\, Unite
 d States
GEO:39.057478;-76.648582
X-APPLE-STRUCTURED-LOCATION;VALUE=URI;X-ADDRESS= \, Millersville\, MD\, 211
 08\, United States;X-APPLE-RADIUS=100;X-TITLE=Chris and Alyssa Jameson's:g
 eo:39.057478,-76.648582
END:VEVENT
BEGIN:VTIMEZONE
TZID:America/New_York
X-LIC-LOCATION:America/New_York
BEGIN:DAYLIGHT
DTSTART:20250309T030000
TZOFFSETFROM:-0500
TZOFFSETTO:-0400
TZNAME:EDT
END:DAYLIGHT
END:VTIMEZONE
END:VCALENDAR