BEGIN:VCALENDAR
VERSION:2.0
PRODID:-//wp-events-plugin.com//7.2.3.1//EN
TZID:America/New_York
X-WR-TIMEZONE:America/New_York
BEGIN:VEVENT
UID:597@trinitypres.us
DTSTART;TZID=America/New_York:20260517T090000
DTEND;TZID=America/New_York:20260517T100000
DTSTAMP:20260307T161635Z
URL:https://trinitypres.us/resources/events/adult-sunday-school-2026-02-08
 -2026-02-15-2026-02-22-2026-03-01-2026-03-08-2026-03-15-2026-03-22-2026-03
 -29-2026-04-05-2026-04-12-2026-04-19-2026-04-26-2026-05-03-2026-05-10-2026
 -05-17/
SUMMARY:Adult Sunday School
DESCRIPTION:Join us as Pastor Chris Jameson teaches through the Book of Act
 s.
ATTACH;FMTTYPE=image/jpeg:https://trinitypres.us/wp-content/uploads/2025/0
 9/ChatGPT-Image-Mar-7-2026-11_14_40-AM-e1772900129877.png
CATEGORIES:Sunday Morning
LOCATION:Crofton High School\, 2291 Davidsonville Road\, Gambrills\, MD\, 2
 1054\, United States
GEO:39.000557;-76.669517
X-APPLE-STRUCTURED-LOCATION;VALUE=URI;X-ADDRESS=2291 Davidsonville Road\, G
 ambrills\, MD\, 21054\, United States;X-APPLE-RADIUS=100;X-TITLE=Crofton H
 igh School:geo:39.000557,-76.669517
END:VEVENT
BEGIN:VTIMEZONE
TZID:America/New_York
X-LIC-LOCATION:America/New_York
BEGIN:DAYLIGHT
DTSTART:20260308T030000
TZOFFSETFROM:-0500
TZOFFSETTO:-0400
TZNAME:EDT
END:DAYLIGHT
END:VTIMEZONE
END:VCALENDAR